BEGIN:VCALENDAR
VERSION:2.0
PRODID:-//Plone.org//NONSGML plone.app.event//EN
X-WR-TIMEZONE:Europe/Madrid
BEGIN:VEVENT
SUMMARY:Approximation algorithms for hard combinatorial problems and games
DTSTART;TZID=Europe/Madrid:20110208T150000
DTEND;TZID=Europe/Madrid:20110210T150000
DTSTAMP:20260424T145829Z
UID:31a45395414973790d54c67a632619fc@peter6.upc.edu:11901
CATEGORIES:Seminar
CREATED:20100316T140700Z
DESCRIPTION:Speaker: \nProf. Stefano Leonardi.\nDipartimento di Informatic
 a e Sistemistica\, \nSapienza University of Rome\n
LAST-MODIFIED:20110204T102900Z
LOCATION:UPC.Room tba\, building Omega
URL:https://computing.phd.upc.edu/en/events/copy_of_curs-master-in-computi
 ng
END:VEVENT
BEGIN:VTIMEZONE
TZID:Europe/Madrid
X-LIC-LOCATION:Europe/Madrid
BEGIN:STANDARD
DTSTART:20101031T020000
TZNAME:CET
TZOFFSETFROM:+0200
TZOFFSETTO:+0100
END:STANDARD
END:VTIMEZONE
END:VCALENDAR
