BEGIN:VCALENDAR
VERSION:2.0
PRODID:-//Plone.org//NONSGML plone.app.event//EN
X-WR-TIMEZONE:Europe/Madrid
BEGIN:VEVENT
SUMMARY:MASTER THESIS IN COMPUTING (VRI)
DTSTART;TZID=Europe/Madrid:20110914T103000
DTEND;TZID=Europe/Madrid:20110914T180000
DTSTAMP:20260420T202312Z
UID:c8e30f0bdb266fa027ba8614664497a9@peter6.upc.edu:11901
CATEGORIES:Presentacions
CREATED:20110912T105200Z
LAST-MODIFIED:20110912T111200Z
LOCATION:room sala Multimedia\, building B3. Campus Nord.
URL:https://computing.phd.upc.edu/en/events/master-thesis-in-computing-vri
END:VEVENT
BEGIN:VTIMEZONE
TZID:Europe/Madrid
X-LIC-LOCATION:Europe/Madrid
BEGIN:DAYLIGHT
DTSTART:20110327T030000
TZNAME:CEST
TZOFFSETFROM:+0100
TZOFFSETTO:+0200
END:DAYLIGHT
END:VTIMEZONE
END:VCALENDAR
