BEGIN:VCALENDAR
VERSION:2.0
PRODID:-//Plone.org//NONSGML plone.app.event//EN
X-WR-TIMEZONE:Europe/Madrid
BEGIN:VEVENT
SUMMARY:PhD THESIS: ANTONIO VILLEGAS NIÑO
DTSTART;TZID=Europe/Madrid:20130129T113000
DTEND;TZID=Europe/Madrid:20130129T133000
DTSTAMP:20260420T154933Z
UID:91f51842-aa89-4157-9b5e-e16e5087beb2@peter6.upc.edu:11901
CREATED:20130114T144800Z
LAST-MODIFIED:20130118T105000Z
LOCATION:Sala de Juntes de la Facultat d’Informàtica de Barcelona \, ed
 ifici  B6. Campus Nord.
URL:https://computing.phd.upc.edu/en/events/phd-thesis-antonio-villegas-ni
 no
END:VEVENT
BEGIN:VTIMEZONE
TZID:Europe/Madrid
X-LIC-LOCATION:Europe/Madrid
BEGIN:STANDARD
DTSTART:20121028T020000
TZNAME:CET
TZOFFSETFROM:+0200
TZOFFSETTO:+0100
END:STANDARD
END:VTIMEZONE
END:VCALENDAR
