BEGIN:VCALENDAR
VERSION:2.0
PRODID:-//Plone.org//NONSGML plone.app.event//EN
X-WR-TIMEZONE:Europe/Madrid
BEGIN:VEVENT
SUMMARY:Presentació tesis de màster Computing 1st FEBRUARY 2011
DTSTART;TZID=Europe/Madrid:20110201T120000
DTEND;TZID=Europe/Madrid:20110201T134500
DTSTAMP:20260421T011024Z
UID:599e17856d4f27d94999c5f14f85b987@peter6.upc.edu:11901
CREATED:20110127T203900Z
LAST-MODIFIED:20110127T204500Z
URL:https://computing.phd.upc.edu/en/events/presentacio-tesis-de-master-in
 -computing-1st-february-2011
END:VEVENT
BEGIN:VTIMEZONE
TZID:Europe/Madrid
X-LIC-LOCATION:Europe/Madrid
BEGIN:STANDARD
DTSTART:20101031T020000
TZNAME:CET
TZOFFSETFROM:+0200
TZOFFSETTO:+0100
END:STANDARD
END:VTIMEZONE
END:VCALENDAR
